BEGIN:VCALENDAR
PRODID:-//PUBBLE//agenda//NL
VERSION:2.0
METHOD:PUBLISH
BEGIN:VEVENT
DTSTART:20260426T173000Z
DTEND:20260426T183000Z
DTSTAMP:20260422T153404Z
UID:e0557fa0-e078-4eb9-9f34-4d7a3b0302fa
CREATED:20260422T153404Z
NAME:Zangavond Minnertsga bildt.nu
X-WR-CALNAME:Zangavond Minnertsga
X-ALT-DESC;FMTTYPE=text/html:<a href='/agenda/2026/4/26/zangavond-minnertsga-17791'>/agenda/2026/4/26/zangavond-minnertsga-17791</a> || <p>Zangavond met zingen op verzoek i.s.m. Annejaap Soldaat (zang) en Ronald Postema (piano). Dit unieke duo bezorgt u kippenvel en laat u lachen; de combinatie dat perfect bij de zangavond Minnertsga past. Welk lied mag niet ontbreken tijdens deze koningsdag-editie? Lever vooraf een briefje met uw verzoeknummer in! Wie weet wordt uw favoriete lied getrokken en gezongen.</p><p>Huisorganist Dirk Norbruis begeleidt de samenzang.<br />Na afloop is er koffie en thee met koninklijk lekkers!</p><p>Toegang gratis, collecte na afloop.</p><p>19.30 uur Meinardskerk, Minnertsga</p><p>Meer info: <a href="http://www.zangavondminnertsga.nl" target="_blank">www.zangavondminnertsga.nl</a></p>
DESCRIPTION:<a href='/agenda/2026/4/26/zangavond-minnertsga-17791'>/agenda/2026/4/26/zangavond-minnertsga-17791</a> || <p>Zangavond met zingen op verzoek i.s.m. Annejaap Soldaat (zang) en Ronald Postema (piano). Dit unieke duo bezorgt u kippenvel en laat u lachen; de combinatie dat perfect bij de zangavond Minnertsga past. Welk lied mag niet ontbreken tijdens deze koningsdag-editie? Lever vooraf een briefje met uw verzoeknummer in! Wie weet wordt uw favoriete lied getrokken en gezongen.</p><p>Huisorganist Dirk Norbruis begeleidt de samenzang.<br />Na afloop is er koffie en thee met koninklijk lekkers!</p><p>Toegang gratis, collecte na afloop.</p><p>19.30 uur Meinardskerk, Minnertsga</p><p>Meer info: <a href="http://www.zangavondminnertsga.nl" target="_blank">www.zangavondminnertsga.nl</a></p>
LAST-MODIFIED:20260422T153404Z
LOCATION: Meinardskerk | Meinardswei 3 Minnertsga
SEQUENCE:0
STATUS:CONFIRMED
SUMMARY:Zangavond Minnertsga
TRANSP:OPAQUE
END:VEVENT
END:VCALENDAR
