BEGIN:VCALENDAR
PRODID:-//PUBBLE//agenda//NL
VERSION:2.0
METHOD:PUBLISH
BEGIN:VEVENT
DTSTART:20260426T130000Z
DTEND:20260426T150000Z
DTSTAMP:20260421T125249Z
UID:95bc3242-20c1-4293-9ced-75f2422b3e22
CREATED:20260421T125249Z
NAME:Optreden Differend Sound bildt.nu
X-WR-CALNAME:Optreden Differend Sound
X-ALT-DESC;FMTTYPE=text/html:<a href='/agenda/2026/4/26/optreden-differend-sound-17790'>/agenda/2026/4/26/optreden-differend-sound-17790</a> || <p>26 april optreden van Differend Sound.</p><p>Different Sound staat onder leiding van Simon Bouma. Simon is een geboren en getogen Harlinger. Al op jonge leeftijd kreeg hij zijn eerste orgellessen. Later studeerde hij orgel bij Jos van der Kooy aan het conservatorium te Alkmaar waar hij in 2000 afstudeerde. Al in het beginstadium van zijn conservatoriumstudie nam hij de vakken piano, zang en koordirectie als bijvakken en volgde diverse masterclasses.&nbsp;</p><p>Daarnaast studeerde hij kerkmuziek en improvisatie. Zijn visie “koor zingen is samendoen”.</p><p>Wekelijks wordt er door de leden op maandagavond van 20:00 uur tot 22:00 uur met veel enthousiasme en inzet gerepeteerd in Minnertsga.&nbsp;</p><p>Het repertoire bestaat o.a uit een mix van ballads, pop- en musical muziek en wordt regelmatig uitgebreid met nieuwe nummers.&nbsp;</p><p>Tijdens een optreden wordt er uit het hoofd gezongen zodat er voldoende gelegenheid is om er swingend bij te staan.</p><p>Ons repertoire is zeer divers, zo zingen wij zowel Engels- als Nederlandstalig, maar ook een Fries of Spaans lied gaan wij niet uit de weg.</p><p>Zij zingen bekende nummers zoals Bohemian Rhapsody, Tonight, Boogy Woogy Bugle Boy, Door de wind en nog veel meer.</p><p>U bent van harte uitgenodigd voor deze middag.</p><p>Adres: Theatertsjerke WIER, Lautawei 3a</p><p>Tijd: 15:00-17:00 uur</p><p>Reserveren:&nbsp;<a href="mailto:s.sevenster@hetnet.nl" target="_blank">s.sevenster@hetnet.nl</a> of&nbsp;<a href="mailto:simy.sevenster@gmail.com" target="_blank">simy.sevenster@gmail.com</a>&nbsp;</p><p>0518-471123</p><p>Entree: € 15,- bij voorkeur contant</p><p>Facebook:&nbsp;<a href="https://www.facebook.com/Theatertsjerke.Wier" target="_blank">https://www.facebook.com/Theatertsjerke.Wier</a></p><p><a href="http://www.ioannistheatertsjerkewier.nl/" target="_blank">Www.Ioannistheatertsjerkewier.nl</a></p>
DESCRIPTION:<a href='/agenda/2026/4/26/optreden-differend-sound-17790'>/agenda/2026/4/26/optreden-differend-sound-17790</a> || <p>26 april optreden van Differend Sound.</p><p>Different Sound staat onder leiding van Simon Bouma. Simon is een geboren en getogen Harlinger. Al op jonge leeftijd kreeg hij zijn eerste orgellessen. Later studeerde hij orgel bij Jos van der Kooy aan het conservatorium te Alkmaar waar hij in 2000 afstudeerde. Al in het beginstadium van zijn conservatoriumstudie nam hij de vakken piano, zang en koordirectie als bijvakken en volgde diverse masterclasses.&nbsp;</p><p>Daarnaast studeerde hij kerkmuziek en improvisatie. Zijn visie “koor zingen is samendoen”.</p><p>Wekelijks wordt er door de leden op maandagavond van 20:00 uur tot 22:00 uur met veel enthousiasme en inzet gerepeteerd in Minnertsga.&nbsp;</p><p>Het repertoire bestaat o.a uit een mix van ballads, pop- en musical muziek en wordt regelmatig uitgebreid met nieuwe nummers.&nbsp;</p><p>Tijdens een optreden wordt er uit het hoofd gezongen zodat er voldoende gelegenheid is om er swingend bij te staan.</p><p>Ons repertoire is zeer divers, zo zingen wij zowel Engels- als Nederlandstalig, maar ook een Fries of Spaans lied gaan wij niet uit de weg.</p><p>Zij zingen bekende nummers zoals Bohemian Rhapsody, Tonight, Boogy Woogy Bugle Boy, Door de wind en nog veel meer.</p><p>U bent van harte uitgenodigd voor deze middag.</p><p>Adres: Theatertsjerke WIER, Lautawei 3a</p><p>Tijd: 15:00-17:00 uur</p><p>Reserveren:&nbsp;<a href="mailto:s.sevenster@hetnet.nl" target="_blank">s.sevenster@hetnet.nl</a> of&nbsp;<a href="mailto:simy.sevenster@gmail.com" target="_blank">simy.sevenster@gmail.com</a>&nbsp;</p><p>0518-471123</p><p>Entree: € 15,- bij voorkeur contant</p><p>Facebook:&nbsp;<a href="https://www.facebook.com/Theatertsjerke.Wier" target="_blank">https://www.facebook.com/Theatertsjerke.Wier</a></p><p><a href="http://www.ioannistheatertsjerkewier.nl/" target="_blank">Www.Ioannistheatertsjerkewier.nl</a></p>
LAST-MODIFIED:20260421T125249Z
LOCATION: Theatertsjerke Wier | Lautawei 3a Wier
SEQUENCE:0
STATUS:CONFIRMED
SUMMARY:Optreden Differend Sound
TRANSP:OPAQUE
END:VEVENT
END:VCALENDAR
