BEGIN:VCALENDAR
PRODID:-//PUBBLE//agenda//NL
VERSION:2.0
METHOD:PUBLISH
BEGIN:VEVENT
DTSTART:20260510T130000Z
DTEND:20260510T150000Z
DTSTAMP:20260420T030936Z
UID:bc1b609f-71d3-43e3-92a5-367d59ece53f
CREATED:20260420T030936Z
NAME:Optreden van het Orkest voor zieken en zeevarenden bildt.nu
X-WR-CALNAME:Optreden van het Orkest voor zieken en zeevarenden
X-ALT-DESC;FMTTYPE=text/html:<a href='/agenda/2026/5/10/optreden-van-het-orkest-voor-zieken-en-zeevarenden-17786'>/agenda/2026/5/10/optreden-van-het-orkest-voor-zieken-en-zeevarenden-17786</a> || <p>10 mei optreden van: Het Orkest voor Zieken en Zeevarenden&nbsp;</p><p>Myzyk hâld minsken jong. Muziek houdt mensen jong.&nbsp;</p><p>Dit Orkest, sinds de leden meer dan twintig jaar geleden weer bij elkaar kwamen om bij de start van de Strontrace in Workum te spelen, is eigenlijk niet veranderd.&nbsp;</p><p>De zangeres en ‘Leading Lady’, Trienke Hoogenberg, om haar draait alles, draagt nog steeds petticoats en kleurt haar haren rood.</p><p>Acordeonist Jan Smidstra speelt nog steeds de sterren van de hemel en af en toe ook wel eens iets anders.</p><p>De broers Harm en Klaas Kasma lopen nog steeds met het geld van de kapper in hun zak.&nbsp;</p><p>Dit orkest gaat nog heel wat decennia mee!</p><p>En dan hun muziek. In hun teksten komt alles voorbij, een kom met warme slappe pap, slapende schapen, onvoorwaardelijke liefdes en alles wat daar ook maar tussen zit.&nbsp;</p><p>Voor hun publiek wordt het, of op het puntje van de stoel zitten, of van de slappe lach omvallen. Maar dat mag elke luisteraar deze middag zelf beslissen.</p><p>Dit belooft deze middag een spetterend optreden te worden.</p><p>Laat u verrassen en meeslepen naar de oude liedjes uit uw jeugd tot de nieuwe hits van nu.</p><p>Adres: Theatertsjerke WIER, Lautawei 3a</p><p>Tijd: 15:00-17:00 uur</p><p>Reserveren:&nbsp;<a href="mailto:s.sevenster@hetnet.nl" target="_blank">s.sevenster@hetnet.nl</a> of&nbsp;<a href="mailto:simy.sevenster@gmail.com" target="_blank">simy.sevenster@gmail.com</a>&nbsp;</p><p>0518-471123</p><p>Entree: € 15,- bij voorkeur contant</p><p>Facebook:&nbsp;<a href="https://www.facebook.com/Theatertsjerke.Wier" target="_blank">https://www.facebook.com/Theatertsjerke.Wier</a></p><p><a href="http://www.ioannistheatertsjerkewier.nl/" target="_blank">Www.Ioannistheatertsjerkewier.nl</a></p>
DESCRIPTION:<a href='/agenda/2026/5/10/optreden-van-het-orkest-voor-zieken-en-zeevarenden-17786'>/agenda/2026/5/10/optreden-van-het-orkest-voor-zieken-en-zeevarenden-17786</a> || <p>10 mei optreden van: Het Orkest voor Zieken en Zeevarenden&nbsp;</p><p>Myzyk hâld minsken jong. Muziek houdt mensen jong.&nbsp;</p><p>Dit Orkest, sinds de leden meer dan twintig jaar geleden weer bij elkaar kwamen om bij de start van de Strontrace in Workum te spelen, is eigenlijk niet veranderd.&nbsp;</p><p>De zangeres en ‘Leading Lady’, Trienke Hoogenberg, om haar draait alles, draagt nog steeds petticoats en kleurt haar haren rood.</p><p>Acordeonist Jan Smidstra speelt nog steeds de sterren van de hemel en af en toe ook wel eens iets anders.</p><p>De broers Harm en Klaas Kasma lopen nog steeds met het geld van de kapper in hun zak.&nbsp;</p><p>Dit orkest gaat nog heel wat decennia mee!</p><p>En dan hun muziek. In hun teksten komt alles voorbij, een kom met warme slappe pap, slapende schapen, onvoorwaardelijke liefdes en alles wat daar ook maar tussen zit.&nbsp;</p><p>Voor hun publiek wordt het, of op het puntje van de stoel zitten, of van de slappe lach omvallen. Maar dat mag elke luisteraar deze middag zelf beslissen.</p><p>Dit belooft deze middag een spetterend optreden te worden.</p><p>Laat u verrassen en meeslepen naar de oude liedjes uit uw jeugd tot de nieuwe hits van nu.</p><p>Adres: Theatertsjerke WIER, Lautawei 3a</p><p>Tijd: 15:00-17:00 uur</p><p>Reserveren:&nbsp;<a href="mailto:s.sevenster@hetnet.nl" target="_blank">s.sevenster@hetnet.nl</a> of&nbsp;<a href="mailto:simy.sevenster@gmail.com" target="_blank">simy.sevenster@gmail.com</a>&nbsp;</p><p>0518-471123</p><p>Entree: € 15,- bij voorkeur contant</p><p>Facebook:&nbsp;<a href="https://www.facebook.com/Theatertsjerke.Wier" target="_blank">https://www.facebook.com/Theatertsjerke.Wier</a></p><p><a href="http://www.ioannistheatertsjerkewier.nl/" target="_blank">Www.Ioannistheatertsjerkewier.nl</a></p>
LAST-MODIFIED:20260420T030936Z
LOCATION: Theatertsjerke Wier | Lautawei 3a Wier
SEQUENCE:0
STATUS:CONFIRMED
SUMMARY:Optreden van het Orkest voor zieken en zeevarenden
TRANSP:OPAQUE
END:VEVENT
END:VCALENDAR
